BEGIN:VCALENDAR
VERSION:2.0
PRODID:-//Village of Lumby - ECPv6.15.20//NONSGML v1.0//EN
CALSCALE:GREGORIAN
METHOD:PUBLISH
X-WR-CALNAME:Village of Lumby
X-ORIGINAL-URL:https://lumby.ca
X-WR-CALDESC:Events for Village of Lumby
REFRESH-INTERVAL;VALUE=DURATION:PT1H
X-Robots-Tag:noindex
X-PUBLISHED-TTL:PT1H
BEGIN:VTIMEZONE
TZID:America/Vancouver
BEGIN:DAYLIGHT
TZOFFSETFROM:-0800
TZOFFSETTO:-0700
TZNAME:PDT
DTSTART:20240310T100000
END:DAYLIGHT
BEGIN:STANDARD
TZOFFSETFROM:-0700
TZOFFSETTO:-0800
TZNAME:PST
DTSTART:20241103T090000
END:STANDARD
BEGIN:DAYLIGHT
TZOFFSETFROM:-0800
TZOFFSETTO:-0700
TZNAME:PDT
DTSTART:20250309T100000
END:DAYLIGHT
BEGIN:STANDARD
TZOFFSETFROM:-0700
TZOFFSETTO:-0800
TZNAME:PST
DTSTART:20251102T090000
END:STANDARD
BEGIN:DAYLIGHT
TZOFFSETFROM:-0800
TZOFFSETTO:-0700
TZNAME:PDT
DTSTART:20260308T100000
END:DAYLIGHT
BEGIN:STANDARD
TZOFFSETFROM:-0700
TZOFFSETTO:-0800
TZNAME:PST
DTSTART:20261101T090000
END:STANDARD
END:VTIMEZONE
BEGIN:VEVENT
DTSTART;VALUE=DATE:20250914
DTEND;VALUE=DATE:20250916
DTSTAMP:20260423T163121
CREATED:20250515T060028Z
LAST-MODIFIED:20250912T234741Z
UID:10000512-1757869200-1757955599@lumby.ca
SUMMARY:Regular Council Meeting Monday September 15\, 2025 – 6:00 PM
DESCRIPTION:Regular Council Meeting Monday September 15\, 2025 – 6:00 PM \nA Regular Meeting of Council is being held Monday September 15\, 2025 at 6:00 PM at the Village of Lumby Municipal Office located at 1775 Glencaird Street\, Lumby\, BC. \nTo view the agenda click here.
URL:https://lumby.ca/event/regular-council-meeting-monday-september-15-2025-600-pm/
END:VEVENT
BEGIN:VEVENT
DTSTART;VALUE=DATE:20250914
DTEND;VALUE=DATE:20250916
DTSTAMP:20260423T163121
CREATED:20250911T004232Z
LAST-MODIFIED:20250913T001214Z
UID:10000521-1757869200-1757955599@lumby.ca
SUMMARY:Committee of the Whole Meeting - 5:00 PM
DESCRIPTION:Committee of the Whole Meeting Monday September 15\, 2025 – 5:00 PM \nA Committee of the Whole Meeting of Council is being held Monday September 15\, 2025 at 5:00 PM at the Village of Lumby Municipal Office located at 1775 Glencaird Street\, Lumby\, BC. \nTo view the agenda click here.
URL:https://lumby.ca/event/committee-of-the-whole-meeting-500-pm-2/
END:VEVENT
END:VCALENDAR