BEGIN:VCALENDAR
VERSION:2.0
PRODID:-//Village of Lumby - ECPv6.15.20//NONSGML v1.0//EN
CALSCALE:GREGORIAN
METHOD:PUBLISH
X-ORIGINAL-URL:https://lumby.ca
X-WR-CALDESC:Events for Village of Lumby
REFRESH-INTERVAL;VALUE=DURATION:PT1H
X-Robots-Tag:noindex
X-PUBLISHED-TTL:PT1H
BEGIN:VTIMEZONE
TZID:America/Vancouver
BEGIN:DAYLIGHT
TZOFFSETFROM:-0800
TZOFFSETTO:-0700
TZNAME:PDT
DTSTART:20210314T100000
END:DAYLIGHT
BEGIN:STANDARD
TZOFFSETFROM:-0700
TZOFFSETTO:-0800
TZNAME:PST
DTSTART:20211107T090000
END:STANDARD
BEGIN:DAYLIGHT
TZOFFSETFROM:-0800
TZOFFSETTO:-0700
TZNAME:PDT
DTSTART:20220313T100000
END:DAYLIGHT
BEGIN:STANDARD
TZOFFSETFROM:-0700
TZOFFSETTO:-0800
TZNAME:PST
DTSTART:20221106T090000
END:STANDARD
BEGIN:DAYLIGHT
TZOFFSETFROM:-0800
TZOFFSETTO:-0700
TZNAME:PDT
DTSTART:20230312T100000
END:DAYLIGHT
BEGIN:STANDARD
TZOFFSETFROM:-0700
TZOFFSETTO:-0800
TZNAME:PST
DTSTART:20231105T090000
END:STANDARD
END:VTIMEZONE
BEGIN:VEVENT
DTSTART;TZID=America/Vancouver:20221212T090000
DTEND;TZID=America/Vancouver:20221212T100000
DTSTAMP:20260421T031418
CREATED:20221208T014405Z
LAST-MODIFIED:20221208T014535Z
UID:10000283-1670835600-1670839200@lumby.ca
SUMMARY:Committee of the Whole Meeting
DESCRIPTION:Committee of the Whole Meeting Monday December 12\, 2022 – 5:00 PM \nA Committee of the Whole meeting is being held Monday December 12\, 2022 at 5:00 PM at the Village of Lumby Municipal Office located at 1775 Glencaird Street\, Lumby\, BC. \nTo view the agenda click here.
URL:https://lumby.ca/event/committee-of-the-whole-meeting-monday-december-12-2022-500-pm/
END:VEVENT
BEGIN:VEVENT
DTSTART;TZID=America/Vancouver:20221212T100000
DTEND;TZID=America/Vancouver:20221212T130000
DTSTAMP:20260421T031418
CREATED:20220823T233943Z
LAST-MODIFIED:20221208T051752Z
UID:10000245-1670839200-1670850000@lumby.ca
SUMMARY:Regular Council Meeting
DESCRIPTION:A Regular Council meeting is scheduled for Monday December 12\, 2022 at 6:00 p.m.  \nThe Council Meeting will be held at the Village of Lumby Municipal Office located at 1775 Glencaird Street\, Lumby\, BC. \nThe public is permitted to attend the meeting in person.  For the latest Provincial Health Orders click here. \nMayor & Council encourage the public to attend. \nTo view the meeting agenda click here.
URL:https://lumby.ca/event/regular-council-meeting-28/
END:VEVENT
BEGIN:VEVENT
DTSTART;VALUE=DATE:20221212
DTEND;VALUE=DATE:20221214
DTSTAMP:20260421T031418
CREATED:20220825T232917Z
LAST-MODIFIED:20220825T232917Z
UID:10000274-1670860800-1670947199@lumby.ca
SUMMARY:Residential Recycling
DESCRIPTION:Recycling collection is every 2nd Tuesday. To check the recycling collection day please click here. \nClick here to download the 2021-2022 Regional District of North Okanagan Recycling Guide. The Recycling Guide outlines how to sort your recycling\, shows what is not accepted\, and includes a collection calendar. You can also download the Recycle BC app from Google Play or the iTunes App Store to access your collection schedule online\, search for depots\, and sign up for reminders.
URL:https://lumby.ca/event/residential-recycling-23/
END:VEVENT
END:VCALENDAR